BEGIN:VCALENDAR
VERSION:2.0
CALSCALE:GREGORIAN
PRODID:adamgibbons/ics
METHOD:PUBLISH
X-PUBLISHED-TTL:PT1H
BEGIN:VEVENT
UID:4928@lapunta.org
SUMMARY:Talk "Vita sostenibile - Un piccolo passo per te\, un grande passo 
	per il pianeta" - Ciclo di AperiTalk in AG Canova
DTSTAMP:20260424T063037Z
DTSTART:20250705T160000Z
DTEND:20250705T180000Z
DESCRIPTION:Sabato 05 Luglio - Vita sostenibile - Un piccolo passo per te\,
	 un grande passo\nper il pianeta - Ciclo di AperiTalk in AG Canova***\n\n-
	 Modera: Aden Abdi (La Svolta - Nova Radio)\n\n- Intervengono: Arianna Lom
	bardi (in arte Aryhomestyle)\, Lorenzo Cecchi\n(Legambiente Firenze)\, Sar
	a Verdolino (SVAPE APS)\, Luca Mocali (I Girelloni\nTrekking)\n\n- Temi tr
	attati: Dal senso di colpa al senso di responsabilità: Offriremo una\npano
	ramica degli impatti ambientali generati dalle nostre scelte quotidiane e\
	nuna guida pratica per imparare a consumare meno e meglio nei 4 campi di i
	ndagine\n(alimentazione\, moda\, trasporti e viaggi)\n\n📝 PER INFO DETTAGL
	IATE E ISCRIZIONI GRATUITE 👉 Clicca qui:\nhttps://lnk.bio/RicciOrto [https
	://lnk.bio/RicciOrto] ⚠️\n\n🥂 Aperitivo ad offerta libera a partire dalle o
	re 17.00\n\nA seguire Cena sociale + Concerto live dei ... (in programmazi
	one)\n\n\n\n***Il Ciclo di AperiTalk rientra fra le iniziative socio-cultu
	rali che\, come 🦔\nRicciOrto (Legambiente Firenze)\, in collaborazione con
	 🅰️ Autogestione Canova e\ndiverse altre realtà informali e singoli cittadi
	ni\, abbiamo ideato\, progettato e\norganizzato nell'ambito del Progetto "
	FUTURA - La bottega della memoria di\ndomani". Il ciclo è composto da 5 in
	contri\, durante i quali parleremo\, assieme a\nspeakers d'eccezione\, di 
	temi di attualità a noi molto cari:\n\nGiovedì 29 Maggio - Palestina: Oltr
	e il silenzio\, dentro l’inferno\nVenerdì 30 Maggio - Palestina: Tra Passa
	to\, Presente e Futuro\nVenerdì 13 Giugno - Non serve il sangue per chiama
	rla violenza\nVenerdì 20 Giugno - Precarietà a tempo indeterminato: Vivere
	 e resistere al\nlavoro senza tutele\nSabato 05 Luglio (Festival Finale Pr
	ogetto FUTURA) - Vita sostenibile - Un\npiccolo passo per te\, un grande p
	asso per il pianeta\n\nTutti i talk saranno preceduti e accompagnati da ap
	eritivi in cui sarà possibile\nconfrontarsi e socializzare e in occasione 
	degli ultimi due\, potrete partecipare\nanche a concerti live e ad altre f
	antastiche attività collaterali!
URL:https://lapunta.org/event/talk-vita-sostenibile-un-piccolo-passo-per-te
	-un-grande-passo-per-il-pianeta-ciclo-di-aperitalk-in-ag-canova
LOCATION:Sala Autogestita della BiblioteCaNova Isolotto - Via Chiusi 4/3 A\
	, Firenze
STATUS:CONFIRMED
CATEGORIES:Cena sociale,Firenze,Viaggi,agcanova,ambiente,aperitalkinagcanov
	a,aperitivo,bibliotecanovaisolotto,cibo,concerto,dibattito,festival,firenz
	e dal basso,isolotto,laboratori,legambientefirenze,live music,mobilità pub
	blica,moda,musica,periferia,precariato,ricciorto,robin food,sostenibilità,
	talk
X-ALT-DESC;FMTTYPE=text/html:<p><strong>Sabato 05 Luglio - Vita sostenibile
	 - Un piccolo passo per te, un grande passo per il pianeta </strong>- Cicl
	o di AperiTalk in AG Canova***</p><p>- Modera: Aden Abdi (La Svolta - Nova
	 Radio)</p><p>- Intervengono: Arianna Lombardi (in arte Aryhomestyle), Lor
	enzo Cecchi (Legambiente Firenze), Sara Verdolino (SVAPE APS), Luca Mocali
	 (I Girelloni Trekking)</p><p>- Temi trattati: Dal senso di colpa al senso
	 di responsabilità: Offriremo una panoramica degli impatti ambientali gene
	rati dalle nostre scelte quotidiane e una guida pratica per imparare a con
	sumare meno e meglio nei 4 campi di indagine (alimentazione, moda, traspor
	ti e viaggi)</p><p>📝 <strong>PER INFO DETTAGLIATE E ISCRIZIONI GRATUITE</s
	trong> 👉 Clicca qui: <a target="_blank" href="https://lnk.bio/RicciOrto">h
	ttps://lnk.bio/RicciOrto</a> ⚠️</p><p>🥂 Aperitivo ad offerta libera a parti
	re dalle ore 17.00</p><p>A seguire Cena sociale + Concerto live dei ... (i
	n programmazione)</p><p></p><p>***Il <strong>Ciclo di AperiTalk</strong> r
	ientra fra le iniziative socio-culturali che, come 🦔 RicciOrto (Legambient
	e Firenze), in collaborazione con 🅰️ Autogestione Canova e diverse altre re
	altà informali e singoli cittadini, abbiamo ideato, progettato e organizza
	to nell'ambito del Progetto "FUTURA - La bottega della memoria di domani".
	 Il ciclo è composto da 5 incontri, durante i quali parleremo, assieme a s
	peakers d'eccezione, di temi di attualità a noi molto cari:</p><p>Giovedì 
	29 Maggio - Palestina: Oltre il silenzio, dentro l’inferno<br>Venerdì 30 M
	aggio - Palestina: Tra Passato, Presente e Futuro<br>Venerdì 13 Giugno - N
	on serve il sangue per chiamarla violenza<br>Venerdì 20 Giugno - Precariet
	à a tempo indeterminato: Vivere e resistere al lavoro senza tutele<br>Saba
	to 05 Luglio (Festival Finale Progetto FUTURA) - Vita sostenibile - Un pic
	colo passo per te, un grande passo per il pianeta</p><p>Tutti i talk saran
	no preceduti e accompagnati da aperitivi in cui sarà possibile confrontars
	i e socializzare e in occasione degli ultimi due, potrete partecipare anch
	e a concerti live e ad altre fantastiche attività collaterali!</p>
END:VEVENT
BEGIN:VEVENT
UID:4479@lapunta.org
SUMMARY:Tellurica - Territori in lotta
DTSTAMP:20260424T063037Z
DTSTART:20250215T090000Z
DTEND:20250216T225900Z
DESCRIPTION:TELLURICA\n\n\nTERRITORI IN LOTTA\n\n\nCHIAMATA PER UNA DUE GIO
	RNI DI STUDIO E CONDIVISIONE\n\n15 E 16 FEBBRAIO 2025 @ CSA NEXT-EMERSON\,
	 FIRENZE\n\nViviamo in un’epoca di frammentazione e isolamento\, in cui og
	ni lotta rischia di\nrimanere limitata al proprio territorio\, faticando a
	 creare connessioni più\nampie. Intanto\, le istituzioni\, con la loro mac
	china burocratica ed esecutiva\,\nagiscono su scale che superano di gran l
	unga quelle dei nostri sforzi locali\,\nrendendo ancora più urgente il bis
	ogno di coordinamento e solidarietà.\n\nNonostante i governi cerchino di s
	pezzare i legami e ridurre la portata delle\nnostre azioni collettive\, sa
	ppiamo che ogni realtà e ogni territorio hanno un\nvalore unico. Quello di
	 cui sentiamo la mancanza è la costruzione di reti\nconsapevoli che ci uni
	scano\, preservando la ricchezza delle nostre differenze. \n\nAbbiamo biso
	gno di confrontare gli strumenti che abbiamo sperimentato in questi\nanni\
	, trovarne di nuovi\, lasciarci affascinare da metodi a cui non avevamo\np
	ensato riadattandoli ai contesti in cui viviamo e lottiamo.\n\nMentre lo S
	tato militarizza le emergenze e privatizza i beni comuni\, siamo noi –\nco
	llettivi\, realtà autogestite e popolari – a prendere in mano la gestione 
	delle\ncrisi\, a costruire risposte e a difendere ciò che resta. E ogni vo
	lta ci\ntroviamo a reinventare strategie e strumenti\, imparando sul campo
	 con un costo\naltissimo in termini di tempo\, energia e vite. È ora di co
	ndividere esperienze\,\npratiche e visioni\, per rafforzare il nostro coor
	dinamento e la nostra capacità\ndi resistere e costruire.\n\nPer questo vi
	 invitiamo a una due giorni nazionale di confronto e costruzione\ncolletti
	va \n\nCOSA SARÀ:\n\nDue giornate dense e pragmatiche\, dove ci incontrere
	mo non tanto per\nraccontarci\, ma per costruire strumenti comuni e tracci
	are percorsi concreti.\nAbbiamo scelto di dividere le giornate in tre tavo
	li tematici\, in modo da\nconcentrare il lavoro su alcuni aspetti che a og
	gi ci sembrano particolarmente\nurgenti.\n\nTAVOLI TEMATICI:\n\n 1. Mobili
	tà e accesso alla città: Gentrificazione\, mobilità verso le periferie\n  
	  e i territori isolati\, politiche di esclusione e servizi delegati a pri
	vati.\n    Accesso per tutt3\, anche alle disabilità \n\n 2. Emergenze: Ma
	ncanza di prevenzione e gestione autogestita dei disastri. Come\n    raffo
	rzare la solidarietà dal basso e rispondere alla militarizzazione.\n\n 3. 
	Consumo di suolo: Cementificazione\, dissesto idrogeologico e climatico.\n
	    Difendere i territori dalle devastazioni ambientali.\n\nASSEMBLEA FINA
	LE:\n\nL’obiettivo è uscire dall’incontro con strumenti concreti:\n\n * Ri
	cettari di lotta\, tecniche e contatti utili per supporto legale e\n   tec
	nico.         \n\n * Proposte di momenti di formazione specifici e materia
	li di approfondimento da\n   condividere.         \n\n *  Incontri periodi
	ci e creazione di strumenti comuni \n\nPROGRAMMA INDICATIVO:\n\n * Sabato 
	mattina\, ore 11: Assemblea introduttiva\n\n * Sabato pomeriggio: Lavoro i
	n 3 tavoli tematici\n\n * Domenica mattina\, ore 11: Assemblea finale con 
	restituzione dei tavoli e\n   rilancio di progetti comuni\n\n * Domenica p
	ranzo: Saluti e conclusione\n\n * Domenica ore 16: Andiamo insieme al cort
	eo per l'anniversario della strage di\n   Via Mariti [https://lapunta.org/
	event/un-anno-dalla-strage-di-via-mariti]\n\nPERCHÉ:\n\nVogliamo un incont
	ro ricco e utile\, che lasci qualcosa di tangibile a tutte le\nrealtà part
	ecipanti. Immaginiamo questo appuntamento come un possibile punto di\npart
	enza per un coordinamento periodico\, itinerante e collettivo.\n\nPortate 
	con voi materiali di approfondimento: articoli\, studi\, dossier. L’idea è
	\nche le connessioni e le conoscenze create in questi due giorni ci accomp
	agnino\nnei mesi successivi.\n\nPER ADESIONI\, INFO E CONTATTI:\n\n- mail:
	 emerson@inventati.org\n- sito: https://tellurica2025.vado.li [https://tel
	lurica2025.vado.li]\n\nADESIONI E PARTECIPAZIONI (IN AGGIORNAMENTO):\n\nPr
	atomagno senza asfalto\nNo Tav Firenze\nTerraliquida OdV\nAmbulatorio Medi
	co Popolare\, Milano\nBrigate Solidarietà Attiva\nCriticity Futuri Urbani\
	nCobas Autolinee Toscane\nCasa del Popolo di Quinto Basso\nPiana contro le
	 nocività – Presidio Noinc Noaero\nOccupazione Via del Leone\nGenuino Clan
	destino\nOpificio Sociologico\nCartografia Resistente\nCollettivo GKN\nMed
	u - Medici per i diritti umani\nWish Parade\nOsservatorio di Castello\nPer
	unaltracittà\nUn Tetto sulla Testa\nComitato Terre Val di Cornia\nTESS - T
	ransizione Energetica Senza Speculazione
URL:https://lapunta.org/event/tellurica-territori-in-lotta
LOCATION:NextEmerson - Via di Bellagio 15\, zona Castello - Firenze
STATUS:CONFIRMED
CATEGORIES:accessibilità,autogestione,consumo di suolo,dissesto idrogeologi
	co,emergenze,mobilità pubblica,montagna,quartieri,territori,urbanis
X-ALT-DESC;FMTTYPE=text/html:<h2><strong>Tellurica</strong></h2><h3>Territo
	ri in lotta</h3><h4><strong><br>CHIAMATA PER UNA DUE GIORNI DI </strong>ST
	UDIO E CONDIVISIONE</h4><h4><strong>15 e 16 FEBBRAIO 2025 @ CSA NEXT-EMERS
	ON, FIRENZE</strong></h4><p>Viviamo in un’epoca di frammentazione e isolam
	ento, in cui ogni lotta rischia di rimanere limitata al proprio territorio
	, faticando a creare connessioni più ampie. Intanto, le istituzioni, con l
	a loro macchina burocratica ed esecutiva, agiscono su scale che superano d
	i gran lunga quelle dei nostri sforzi locali, rendendo ancora più urgente 
	il bisogno di coordinamento e solidarietà.</p><p>Nonostante i governi cerc
	hino di spezzare i legami e ridurre la portata delle nostre azioni collett
	ive, sappiamo che ogni realtà e ogni territorio hanno un valore unico. Que
	llo di cui sentiamo la mancanza è la costruzione di reti consapevoli che c
	i uniscano, preservando la ricchezza delle nostre differenze.&nbsp;</p><p>
	Abbiamo bisogno di confrontare gli strumenti che abbiamo sperimentato in q
	uesti anni, trovarne di nuovi, lasciarci affascinare da metodi a cui non a
	vevamo pensato riadattandoli ai contesti in cui viviamo e lottiamo.</p><p>
	Mentre lo Stato militarizza le emergenze e privatizza i beni comuni, siamo
	 noi – collettivi, realtà autogestite e popolari – a prendere in mano la g
	estione delle crisi, a costruire risposte e a difendere ciò che resta. E o
	gni volta ci troviamo a reinventare strategie e strumenti, imparando sul c
	ampo con un costo altissimo in termini di tempo, energia e vite. È ora di 
	condividere esperienze, pratiche e visioni, per rafforzare il nostro coord
	inamento e la nostra capacità di resistere e costruire.</p><p><strong>Per 
	questo vi invitiamo a una due giorni nazionale di confronto e costruzione 
	collettiva&nbsp;</strong></p><h4><strong>COSA SARÀ:</strong></h4><p>Due gi
	ornate dense e pragmatiche, dove ci incontreremo non tanto per raccontarci
	, ma per costruire strumenti comuni e tracciare percorsi concreti. Abbiamo
	 scelto di dividere le giornate in tre tavoli tematici, in modo da concent
	rare il lavoro su alcuni aspetti che a oggi ci sembrano particolarmente ur
	genti.</p><h4><strong>TAVOLI TEMATICI:</strong></h4><ol><li><p><strong>Mob
	ilità e accesso alla città:</strong> Gentrificazione, mobilità verso le pe
	riferie e i territori isolati, politiche di esclusione e servizi delegati 
	a privati. Accesso per tutt3, anche alle disabilità&nbsp;</p></li><li><p><
	strong>Emergenze:</strong> Mancanza di prevenzione e gestione autogestita 
	dei disastri. Come rafforzare la solidarietà dal basso e rispondere alla m
	ilitarizzazione.</p></li><li><p><strong>Consumo di suolo:</strong> Cementi
	ficazione, dissesto idrogeologico e climatico. Difendere i territori dalle
	 devastazioni ambientali.</p></li></ol><h4><strong>ASSEMBLEA FINALE:</stro
	ng></h4><p>L’obiettivo è uscire dall’incontro con strumenti concreti:</p><
	ul><li><p>Ricettari di lotta, tecniche e contatti utili per supporto legal
	e e tecnico.&nbsp;&nbsp;&nbsp;&nbsp;&nbsp;&nbsp;&nbsp;&nbsp;&nbsp;</p></li
	></ul><ul><li><p>Proposte di momenti di formazione specifici e materiali d
	i approfondimento da condividere.&nbsp;&nbsp;&nbsp;&nbsp;&nbsp;&nbsp;&nbsp
	;&nbsp;&nbsp;</p></li></ul><ul><li><p>&nbsp;Incontri periodici e creazione
	 di strumenti comuni&nbsp;</p></li></ul><h4><strong>PROGRAMMA INDICATIVO:<
	/strong></h4><ul><li><p><strong>Sabato mattina, ore 11: </strong>Assemblea
	 introduttiva</p></li><li><p><strong>Sabato pomeriggio: </strong>Lavoro in
	 3 tavoli tematici</p></li><li><p><strong>Domenica mattina, ore 11: </stro
	ng>Assemblea finale con restituzione dei tavoli e rilancio di progetti com
	uni</p></li><li><p><strong>Domenica pranzo:</strong> Saluti e conclusione<
	/p></li><li><p><strong>Domenica ore 16:</strong> Andiamo insieme al <a tar
	get="_blank" href="https://lapunta.org/event/un-anno-dalla-strage-di-via-m
	ariti">corteo per l'anniversario della strage di Via Mariti</a></p></li></
	ul><h4><strong>PERCHÉ:</strong></h4><p>Vogliamo un incontro ricco e utile,
	 che lasci qualcosa di tangibile a tutte le realtà partecipanti. Immaginia
	mo questo appuntamento come un possibile punto di partenza per un coordina
	mento periodico, itinerante e collettivo.</p><p>Portate con voi materiali 
	di approfondimento: articoli, studi, dossier. L’idea è che le connessioni 
	e le conoscenze create in questi due giorni ci accompagnino nei mesi succe
	ssivi.</p><h4><strong>PER ADESIONI, INFO E CONTATTI:</strong></h4><p>- mai
	l: <strong>emerson@inventati.org<br></strong>- sito: <a target="_blank" hr
	ef="https://tellurica2025.vado.li"><strong>https://tellurica2025.vado.li</
	strong></a></p><h4><strong>Adesioni e partecipazioni (in aggiornamento):</
	strong></h4><p>Pratomagno senza asfalto<br>No Tav Firenze<br>Terraliquida 
	OdV<br>Ambulatorio Medico Popolare, Milano<br>Brigate Solidarietà Attiva<b
	r>Criticity Futuri Urbani<br>Cobas Autolinee Toscane<br>Casa del Popolo di
	 Quinto Basso<br>Piana contro le nocività – Presidio Noinc Noaero<br>Occup
	azione Via del Leone<br>Genuino Clandestino<br>Opificio Sociologico<br>Car
	tografia Resistente<br>Collettivo GKN<br>Medu - Medici per i diritti umani
	<br>Wish Parade<br>Osservatorio di Castello<br>Perunaltracittà<br>Un Tetto
	 sulla Testa<br>Comitato Terre Val di Cornia<br>TESS - Transizione Energet
	ica Senza Speculazione</p>
END:VEVENT
END:VCALENDAR
